BEGIN:VCALENDAR
VERSION:2.0
PRODID:-//Showmasters - ECPv6.15.16//NONSGML v1.0//EN
CALSCALE:GREGORIAN
METHOD:PUBLISH
X-ORIGINAL-URL:https://www.showmastersevents.com
X-WR-CALDESC:Events for Showmasters
REFRESH-INTERVAL;VALUE=DURATION:PT1H
X-Robots-Tag:noindex
X-PUBLISHED-TTL:PT1H
BEGIN:VTIMEZONE
TZID:Europe/London
BEGIN:DAYLIGHT
TZOFFSETFROM:+0000
TZOFFSETTO:+0100
TZNAME:BST
DTSTART:20220327T010000
END:DAYLIGHT
BEGIN:STANDARD
TZOFFSETFROM:+0100
TZOFFSETTO:+0000
TZNAME:GMT
DTSTART:20221030T010000
END:STANDARD
BEGIN:DAYLIGHT
TZOFFSETFROM:+0000
TZOFFSETTO:+0100
TZNAME:BST
DTSTART:20230326T010000
END:DAYLIGHT
BEGIN:STANDARD
TZOFFSETFROM:+0100
TZOFFSETTO:+0000
TZNAME:GMT
DTSTART:20231029T010000
END:STANDARD
BEGIN:DAYLIGHT
TZOFFSETFROM:+0000
TZOFFSETTO:+0100
TZNAME:BST
DTSTART:20240331T010000
END:DAYLIGHT
BEGIN:STANDARD
TZOFFSETFROM:+0100
TZOFFSETTO:+0000
TZNAME:GMT
DTSTART:20241027T010000
END:STANDARD
END:VTIMEZONE
BEGIN:VEVENT
DTSTART;TZID=Europe/London:20230326T080000
DTEND;TZID=Europe/London:20230326T170000
DTSTAMP:20260422T014931
CREATED:20220210T172127Z
LAST-MODIFIED:20221010T133802Z
UID:10000074-1679817600-1679850000@www.showmastersevents.com
SUMMARY:London Film Fair
DESCRIPTION:[vc_row][vc_column]Visit London Film Fair WebsiteVisit London Film Fair Website[/vc_column][/vc_row][vc_row][vc_column][vc_column_text]Established in 1973! \nThis event is the continuation of a legacy that started back in the early seventies\, and over the years have seen different names and organizers but its roots orginate from the original Collector’s Film Conventions that were organized by Ed Mason. Now under new management\, the future of the event is secured. \nThe events are held at the Royal National Hotel\, near Russell Square\, with up to 5 events a year. \nThe conventions presents dealers from all over the UK\, Europe\, US\, Canada\, Australia and South America that specializes in vintage and modern film memorabilia. Items cover the history of cinema from the silents to the present day blockbusters. \nThe London Film Fair will appeal to avid film buffs\, collectors\, archivists researchers and students. \nA must for anyone with an interest in cinema and cult television! \nSTILLS – VINTAGE POSTERS – MODERN POSTERS – PROGRAMMES – MAGAZINES – BOOKS – DVDS – SOUNDTRACKS – LOBBY CARDS – TOYS – AUTOGRAPHS – VIDEOS – POSTCARDS – ACTORS & DIRECTORS SIGNINGS.[/vc_column_text][/vc_column][/vc_row]
URL:https://www.showmastersevents.com/event/london-film-fair/2023-03-26/
LOCATION:The Royal National Hotel\, 38-51 Bedford Way\, London\, London\, WC1H 0DG
CATEGORIES:London Film Fair
ATTACH;FMTTYPE=image/jpeg:https://www.showmastersevents.com/wp-content/uploads/2022/02/FFLogo-16-9.jpg
GEO:51.5234685;-0.1273138
X-APPLE-STRUCTURED-LOCATION;VALUE=URI;X-ADDRESS=The Royal National Hotel 38-51 Bedford Way London London WC1H 0DG;X-APPLE-RADIUS=500;X-TITLE=38-51 Bedford Way:geo:-0.1273138,51.5234685
END:VEVENT
BEGIN:VEVENT
DTSTART;TZID=Europe/London:20230326T100000
DTEND;TZID=Europe/London:20230326T170000
DTSTAMP:20260422T014931
CREATED:20230315T195437Z
LAST-MODIFIED:20230315T195437Z
UID:10000114-1679824800-1679850000@www.showmastersevents.com
SUMMARY:Milton Keynes Brick Festival
DESCRIPTION:[vc_row][vc_column][vc_column_text]This is a celebration of all things LEGO. This will be a great day for families\, collectors and adult builders alike with lots to see and do including a speed building competition\, large scale displays\, traders selling loose bricks\, new LEGO sets\, retired LEGO sets\, minifigures & accessories plus a dedicated building area.[/vc_column_text][/vc_column][/vc_row][vc_row][vc_column]Visit Brick Festival WebsiteVisit Brick Festival Website[/vc_column][/vc_row]
URL:https://www.showmastersevents.com/event/milton-keynes-brick-festival-2/
LOCATION:Planet Ice\, 1 South Row\, Milton Keynes\, Buckinghamshire\, MK9 1DL\, United Kingdom
CATEGORIES:Brick Festival
ATTACH;FMTTYPE=image/jpeg:https://www.showmastersevents.com/wp-content/uploads/2022/03/MKBF4-Profile-Pic-16-9.jpg
GEO:52.0317759;-0.7702119
X-APPLE-STRUCTURED-LOCATION;VALUE=URI;X-ADDRESS=Planet Ice 1 South Row Milton Keynes Buckinghamshire MK9 1DL United Kingdom;X-APPLE-RADIUS=500;X-TITLE=1 South Row:geo:-0.7702119,52.0317759
END:VEVENT
END:VCALENDAR