BEGIN:VCALENDAR
VERSION:2.0
PRODID:-//Showmasters - ECPv6.15.20//NONSGML v1.0//EN
CALSCALE:GREGORIAN
METHOD:PUBLISH
X-WR-CALNAME:Showmasters
X-ORIGINAL-URL:https://www.showmastersevents.com
X-WR-CALDESC:Events for Showmasters
REFRESH-INTERVAL;VALUE=DURATION:PT1H
X-Robots-Tag:noindex
X-PUBLISHED-TTL:PT1H
BEGIN:VTIMEZONE
TZID:Europe/London
BEGIN:DAYLIGHT
TZOFFSETFROM:+0000
TZOFFSETTO:+0100
TZNAME:BST
DTSTART:20220327T010000
END:DAYLIGHT
BEGIN:STANDARD
TZOFFSETFROM:+0100
TZOFFSETTO:+0000
TZNAME:GMT
DTSTART:20221030T010000
END:STANDARD
BEGIN:DAYLIGHT
TZOFFSETFROM:+0000
TZOFFSETTO:+0100
TZNAME:BST
DTSTART:20230326T010000
END:DAYLIGHT
BEGIN:STANDARD
TZOFFSETFROM:+0100
TZOFFSETTO:+0000
TZNAME:GMT
DTSTART:20231029T010000
END:STANDARD
BEGIN:DAYLIGHT
TZOFFSETFROM:+0000
TZOFFSETTO:+0100
TZNAME:BST
DTSTART:20240331T010000
END:DAYLIGHT
BEGIN:STANDARD
TZOFFSETFROM:+0100
TZOFFSETTO:+0000
TZNAME:GMT
DTSTART:20241027T010000
END:STANDARD
END:VTIMEZONE
BEGIN:VEVENT
DTSTART;TZID=Europe/London:20230212T100000
DTEND;TZID=Europe/London:20230212T170000
DTSTAMP:20260423T121701
CREATED:20220210T185739Z
LAST-MODIFIED:20221214T143528Z
UID:10000116-1676196000-1676221200@www.showmastersevents.com
SUMMARY:Brick Festival London
DESCRIPTION:[vc_row][vc_column]Visit Brick Festival WebsiteVisit Brick Festival Website[/vc_column][/vc_row][vc_row][vc_column][vc_column_text]After our amazing launch event the Brick Festival returns to London\, bringing you even more incredible LEGO builds\, activities\, build challenges\, and way more LEGO available to buy – Boxed sets\, Minifigures\, loose bricks and accessories! \nThis celebration of all things LEGO is open to fans of all ages. Booking tickets to secure your place is always advisable – Early Bird tickets are still available\, but selling fast\, giving you an hour of extra fun and a FREE LEGO gift too!\nLondon Brick Festival will take place on Sunday 13th February 2022 at the Royal National Hotel from 10am – 5pm.[/vc_column_text][/vc_column][/vc_row]
URL:https://www.showmastersevents.com/event/brick-festival-london/2023-02-12/
LOCATION:The Royal National Hotel\, 38-51 Bedford Way\, London\, London\, WC1H 0DG
CATEGORIES:Brick Festival
ATTACH;FMTTYPE=image/jpeg:https://www.showmastersevents.com/wp-content/uploads/2022/10/Lond.jpeg
GEO:51.5234685;-0.1273138
X-APPLE-STRUCTURED-LOCATION;VALUE=URI;X-ADDRESS=The Royal National Hotel 38-51 Bedford Way London London WC1H 0DG;X-APPLE-RADIUS=500;X-TITLE=38-51 Bedford Way:geo:-0.1273138,51.5234685
END:VEVENT
END:VCALENDAR