BEGIN:VCALENDAR
VERSION:2.0
PRODID:-//Showmasters - ECPv6.15.20//NONSGML v1.0//EN
CALSCALE:GREGORIAN
METHOD:PUBLISH
X-ORIGINAL-URL:https://www.showmastersevents.com
X-WR-CALDESC:Events for Showmasters
REFRESH-INTERVAL;VALUE=DURATION:PT1H
X-Robots-Tag:noindex
X-PUBLISHED-TTL:PT1H
BEGIN:VTIMEZONE
TZID:Europe/London
BEGIN:DAYLIGHT
TZOFFSETFROM:+0000
TZOFFSETTO:+0100
TZNAME:BST
DTSTART:20210328T010000
END:DAYLIGHT
BEGIN:STANDARD
TZOFFSETFROM:+0100
TZOFFSETTO:+0000
TZNAME:GMT
DTSTART:20211031T010000
END:STANDARD
BEGIN:DAYLIGHT
TZOFFSETFROM:+0000
TZOFFSETTO:+0100
TZNAME:BST
DTSTART:20220327T010000
END:DAYLIGHT
BEGIN:STANDARD
TZOFFSETFROM:+0100
TZOFFSETTO:+0000
TZNAME:GMT
DTSTART:20221030T010000
END:STANDARD
BEGIN:DAYLIGHT
TZOFFSETFROM:+0000
TZOFFSETTO:+0100
TZNAME:BST
DTSTART:20230326T010000
END:DAYLIGHT
BEGIN:STANDARD
TZOFFSETFROM:+0100
TZOFFSETTO:+0000
TZNAME:GMT
DTSTART:20231029T010000
END:STANDARD
END:VTIMEZONE
BEGIN:VEVENT
DTSTART;TZID=Europe/London:20221029T080000
DTEND;TZID=Europe/London:20221029T170000
DTSTAMP:20260423T231516
CREATED:20220210T190058Z
LAST-MODIFIED:20221214T143207Z
UID:10000104-1667030400-1667062800@www.showmastersevents.com
SUMMARY:Milton Keynes Brick Festival
DESCRIPTION:[vc_row][vc_column][vc_column_text]This is a celebration of all things LEGO. This will be a great day for families\, collectors and adult builders alike with lots to see and do including a speed building competition\, large scale displays\, traders selling loose bricks\, new LEGO sets\, retired LEGO sets\, minifigures & accessories plus a dedicated building area.[/vc_column_text][/vc_column][/vc_row][vc_row][vc_column]Visit Brick Festival WebsiteVisit Brick Festival Website[/vc_column][/vc_row]
URL:https://www.showmastersevents.com/event/milton-keynes-brick-festival/2022-10-29/
LOCATION:The Ridgeway Centre\, Featherstone Rd\, Wolverton Mill\, Wolverton\, Milton Keynes\, Buckinghamshire\, MK12 5TH\, United Kingdom
CATEGORIES:Brick Festival
ATTACH;FMTTYPE=image/jpeg:https://www.showmastersevents.com/wp-content/uploads/2022/03/MKBF4-Profile-Pic-16-9.jpg
GEO:52.0549356;-0.8322995
X-APPLE-STRUCTURED-LOCATION;VALUE=URI;X-ADDRESS=The Ridgeway Centre Featherstone Rd Wolverton Mill Wolverton Milton Keynes Buckinghamshire MK12 5TH United Kingdom;X-APPLE-RADIUS=500;X-TITLE=Featherstone Rd\, Wolverton Mill\, Wolverton:geo:-0.8322995,52.0549356
END:VEVENT
END:VCALENDAR