BEGIN:VCALENDAR
VERSION:2.0
PRODID:-//Showmasters - ECPv6.15.20//NONSGML v1.0//EN
CALSCALE:GREGORIAN
METHOD:PUBLISH
X-WR-CALNAME:Showmasters
X-ORIGINAL-URL:https://www.showmastersevents.com
X-WR-CALDESC:Events for Showmasters
REFRESH-INTERVAL;VALUE=DURATION:PT1H
X-Robots-Tag:noindex
X-PUBLISHED-TTL:PT1H
BEGIN:VTIMEZONE
TZID:Europe/London
BEGIN:DAYLIGHT
TZOFFSETFROM:+0000
TZOFFSETTO:+0100
TZNAME:BST
DTSTART:20210328T010000
END:DAYLIGHT
BEGIN:STANDARD
TZOFFSETFROM:+0100
TZOFFSETTO:+0000
TZNAME:GMT
DTSTART:20211031T010000
END:STANDARD
BEGIN:DAYLIGHT
TZOFFSETFROM:+0000
TZOFFSETTO:+0100
TZNAME:BST
DTSTART:20220327T010000
END:DAYLIGHT
BEGIN:STANDARD
TZOFFSETFROM:+0100
TZOFFSETTO:+0000
TZNAME:GMT
DTSTART:20221030T010000
END:STANDARD
BEGIN:DAYLIGHT
TZOFFSETFROM:+0000
TZOFFSETTO:+0100
TZNAME:BST
DTSTART:20230326T010000
END:DAYLIGHT
BEGIN:STANDARD
TZOFFSETFROM:+0100
TZOFFSETTO:+0000
TZNAME:GMT
DTSTART:20231029T010000
END:STANDARD
END:VTIMEZONE
BEGIN:VEVENT
DTSTART;TZID=Europe/London:20220923T140000
DTEND;TZID=Europe/London:20220925T180000
DTSTAMP:20260423T231045
CREATED:20220210T170248Z
LAST-MODIFIED:20220514T134716Z
UID:10000046-1663941600-1664128800@www.showmastersevents.com
SUMMARY:Destination Star Trek Germany
DESCRIPTION:[vc_row][vc_column][vc_column_text]Destination Star Trek Germany is back for 2020 to celebrate the 25th Anniversary of Star Trek Voyager in style! Return with us to Dortmund from 25th – 27th June 2021\, to explore strange new worlds\, to seek out new life and new civilizations\, to boldly go where no one has gone before! \nEurope’s Official Star Trek convention\, Destination Star Trek Germany\, will offer fans the opportunity to meet the cast and crew\, explore interactive exhibits\, learn about Star Trek’s impact on science\, space and technology\, and enjoy parties fit for brand new worlds.[/vc_column_text][/vc_column][/vc_row][vc_row][vc_column]Visit Destination Star Trek Germany WebsiteVisit Destination Star Trek Germany Website[/vc_column][/vc_row]
URL:https://www.showmastersevents.com/event/destination-star-trek-germany/
LOCATION:Messe Westfalenhallen Dortmund\, Wittekindstraße 106\, Dortmund\, 44139\, Germany
CATEGORIES:Destination
ATTACH;FMTTYPE=image/jpeg:https://www.showmastersevents.com/wp-content/uploads/2022/02/DST-Germany-16-9.jpg
GEO:51.4947123;7.4443162
X-APPLE-STRUCTURED-LOCATION;VALUE=URI;X-ADDRESS=Messe Westfalenhallen Dortmund Wittekindstraße 106 Dortmund 44139 Germany;X-APPLE-RADIUS=500;X-TITLE=Wittekindstraße 106:geo:7.4443162,51.4947123
END:VEVENT
END:VCALENDAR