BEGIN:VCALENDAR
VERSION:2.0
PRODID:-//Showmasters - ECPv6.15.20//NONSGML v1.0//EN
CALSCALE:GREGORIAN
METHOD:PUBLISH
X-WR-CALNAME:Showmasters
X-ORIGINAL-URL:https://www.showmastersevents.com
X-WR-CALDESC:Events for Showmasters
REFRESH-INTERVAL;VALUE=DURATION:PT1H
X-Robots-Tag:noindex
X-PUBLISHED-TTL:PT1H
BEGIN:VTIMEZONE
TZID:Europe/London
BEGIN:DAYLIGHT
TZOFFSETFROM:+0000
TZOFFSETTO:+0100
TZNAME:BST
DTSTART:20210328T010000
END:DAYLIGHT
BEGIN:STANDARD
TZOFFSETFROM:+0100
TZOFFSETTO:+0000
TZNAME:GMT
DTSTART:20211031T010000
END:STANDARD
BEGIN:DAYLIGHT
TZOFFSETFROM:+0000
TZOFFSETTO:+0100
TZNAME:BST
DTSTART:20220327T010000
END:DAYLIGHT
BEGIN:STANDARD
TZOFFSETFROM:+0100
TZOFFSETTO:+0000
TZNAME:GMT
DTSTART:20221030T010000
END:STANDARD
BEGIN:DAYLIGHT
TZOFFSETFROM:+0000
TZOFFSETTO:+0100
TZNAME:BST
DTSTART:20230326T010000
END:DAYLIGHT
BEGIN:STANDARD
TZOFFSETFROM:+0100
TZOFFSETTO:+0000
TZNAME:GMT
DTSTART:20231029T010000
END:STANDARD
END:VTIMEZONE
BEGIN:VEVENT
DTSTART;TZID=Europe/London:20220903T090000
DTEND;TZID=Europe/London:20220904T180000
DTSTAMP:20260423T231013
CREATED:20220210T184806Z
LAST-MODIFIED:20221102T120904Z
UID:10000060-1662195600-1662314400@www.showmastersevents.com
SUMMARY:Birmingham Collectormania
DESCRIPTION:[vc_row][vc_column]Visit Birmingham Collectormania WebsiteVisit Birmingham Collectormania Website[/vc_column][/vc_row][vc_row][vc_column][vc_column_text]Showmasters is back with Film & Comic Con Birmingham at The NEC. Taking place on Saturday 3rd & Sunday 4th September 2022. Including photo shoots\, panels\, autograph sessions and hundreds of stalls full of TV. Film & Sports memorabilia \nShow opening times:\nSaturday from 9am – 6pm\nSunday from 9am – 6pm\nStandard Entry Price: £10* from 11 am (10am Sunday)\nEarly Entry Price: £15* from 9 am[/vc_column_text][/vc_column][/vc_row]
URL:https://www.showmastersevents.com/event/birmingham-collectormania/
LOCATION:The NEC\, North Ave\, Marston Green\, Birmingham\, West Midlands\, B40 1NT\, United Kingdom
CATEGORIES:Collectormania
ATTACH;FMTTYPE=image/jpeg:https://www.showmastersevents.com/wp-content/uploads/2022/02/Birmingham-collectormania-16-9.jpg
GEO:52.4554866;-1.7148778
X-APPLE-STRUCTURED-LOCATION;VALUE=URI;X-ADDRESS=The NEC North Ave Marston Green Birmingham West Midlands B40 1NT United Kingdom;X-APPLE-RADIUS=500;X-TITLE=North Ave\, Marston Green:geo:-1.7148778,52.4554866
END:VEVENT
END:VCALENDAR