BEGIN:VCALENDAR
VERSION:2.0
PRODID:-//Showmasters - ECPv6.15.16//NONSGML v1.0//EN
CALSCALE:GREGORIAN
METHOD:PUBLISH
X-WR-CALNAME:Showmasters
X-ORIGINAL-URL:https://www.showmastersevents.com
X-WR-CALDESC:Events for Showmasters
REFRESH-INTERVAL;VALUE=DURATION:PT1H
X-Robots-Tag:noindex
X-PUBLISHED-TTL:PT1H
BEGIN:VTIMEZONE
TZID:Europe/London
BEGIN:DAYLIGHT
TZOFFSETFROM:+0000
TZOFFSETTO:+0100
TZNAME:BST
DTSTART:20220327T010000
END:DAYLIGHT
BEGIN:STANDARD
TZOFFSETFROM:+0100
TZOFFSETTO:+0000
TZNAME:GMT
DTSTART:20221030T010000
END:STANDARD
BEGIN:DAYLIGHT
TZOFFSETFROM:+0000
TZOFFSETTO:+0100
TZNAME:BST
DTSTART:20230326T010000
END:DAYLIGHT
BEGIN:STANDARD
TZOFFSETFROM:+0100
TZOFFSETTO:+0000
TZNAME:GMT
DTSTART:20231029T010000
END:STANDARD
BEGIN:DAYLIGHT
TZOFFSETFROM:+0000
TZOFFSETTO:+0100
TZNAME:BST
DTSTART:20240331T010000
END:DAYLIGHT
BEGIN:STANDARD
TZOFFSETFROM:+0100
TZOFFSETTO:+0000
TZNAME:GMT
DTSTART:20241027T010000
END:STANDARD
END:VTIMEZONE
BEGIN:VEVENT
DTSTART;TZID=Europe/London:20230701T100000
DTEND;TZID=Europe/London:20230701T160000
DTSTAMP:20260421T150107
CREATED:20230330T160243Z
LAST-MODIFIED:20230427T190745Z
UID:10000128-1688205600-1688227200@www.showmastersevents.com
SUMMARY:Nottingham Brick Festival
DESCRIPTION:A LEGO fan event dedicated to all things brick! \nThis will be a great day for families\, collectors\, adult builders and every other kind of LEGO fan. With lots to see and do including speed building competitions\, large scale displays\, activities\, traders selling loose bricks\, new LEGO sets\, retired LEGO sets\, minifigures & accessories plus a dedicated building area. \nEstablished in 2018\, this celebration of all things LEGO is open to fans of all ages. Booking tickets to secure your place is strongly advised as we regularly sell out. Early Bird tickets are also available giving you an hour of extra fun and a FREE LEGO gift on entry too!
URL:https://www.showmastersevents.com/event/nottingham-brick-festival/
LOCATION:Nottingham High School\, Waverley Mount\, Coddington\, NG7 4ED\, United Kingdom
CATEGORIES:Brick Festival
ATTACH;FMTTYPE=image/png:https://www.showmastersevents.com/wp-content/uploads/2023/03/Nottingham.png
GEO:52.9626267;-1.1596094
X-APPLE-STRUCTURED-LOCATION;VALUE=URI;X-ADDRESS=Nottingham High School Waverley Mount Coddington NG7 4ED United Kingdom;X-APPLE-RADIUS=500;X-TITLE=Waverley Mount:geo:-1.1596094,52.9626267
END:VEVENT
BEGIN:VEVENT
DTSTART;TZID=Europe/London:20230707T100000
DTEND;TZID=Europe/London:20230709T180000
DTSTAMP:20260421T150107
CREATED:20220210T173338Z
LAST-MODIFIED:20221010T140853Z
UID:10000103-1688724000-1688925600@www.showmastersevents.com
SUMMARY:London Film & Comic Con
DESCRIPTION:[vc_row][vc_column]Visit London Film and Comic Con WebsiteVisit London Film and Comic Con Website[/vc_column][/vc_row][vc_row][vc_column][vc_column_text]WE ARE BACK in July 2023 with the return of Showmasters London Film & Comic Con at Olympia London! \nTaking place on Friday 7th\, Saturday 8th & Sunday the 9th of July 2023\, London Film & Comic Con promises to bring you some of your favourite stars from TV\, Film and Comics as well as a whole host of fun activities including photo shoots\, panels\, autograph sessions and hundreds of stalls full of TV and Film memorabilia to browse.[/vc_column_text][/vc_column][/vc_row]
URL:https://www.showmastersevents.com/event/london-film-comic-con/2023-07-07/
LOCATION:Olympia\, Hammersmith Road\, London\, London\, W14 8UX
CATEGORIES:Comic Con
ATTACH;FMTTYPE=image/jpeg:https://www.showmastersevents.com/wp-content/uploads/2022/02/LFCC-2022-16-9.jpg
GEO:51.4956789;-0.2100067
X-APPLE-STRUCTURED-LOCATION;VALUE=URI;X-ADDRESS=Olympia Hammersmith Road London London W14 8UX;X-APPLE-RADIUS=500;X-TITLE=Hammersmith Road:geo:-0.2100067,51.4956789
END:VEVENT
BEGIN:VEVENT
DTSTART;TZID=Europe/London:20230709T100000
DTEND;TZID=Europe/London:20230709T160000
DTSTAMP:20260421T150107
CREATED:20230427T190250Z
LAST-MODIFIED:20230427T190250Z
UID:10000136-1688896800-1688918400@www.showmastersevents.com
SUMMARY:London Brick Festival
DESCRIPTION:A LEGO fan event dedicated to all things brick! \nThis will be a great day for families\, collectors\, adult builders and every other kind of LEGO fan. With lots to see and do including speed building competitions\, large scale displays\, activities\, traders selling loose bricks\, new LEGO sets\, retired LEGO sets\, minifigures & accessories plus a dedicated building area. \nEstablished in 2018\, this celebration of all things LEGO is open to fans of all ages. Booking tickets to secure your place is strongly advised as we regularly sell out. Early Bird tickets are also available giving you an hour of extra fun and a FREE LEGO gift on entry too!
URL:https://www.showmastersevents.com/event/london-brick-festival-2/
LOCATION:Olympia\, Hammersmith Road\, London\, London\, W14 8UX
CATEGORIES:Brick Festival
ATTACH;FMTTYPE=image/jpeg:https://www.showmastersevents.com/wp-content/uploads/2022/10/Lond.jpeg
GEO:51.4956789;-0.2100067
X-APPLE-STRUCTURED-LOCATION;VALUE=URI;X-ADDRESS=Olympia Hammersmith Road London London W14 8UX;X-APPLE-RADIUS=500;X-TITLE=Hammersmith Road:geo:-0.2100067,51.4956789
END:VEVENT
BEGIN:VEVENT
DTSTART;TZID=Europe/London:20230716T100000
DTEND;TZID=Europe/London:20230716T160000
DTSTAMP:20260421T150107
CREATED:20230330T160852Z
LAST-MODIFIED:20230427T190825Z
UID:10000129-1689501600-1689523200@www.showmastersevents.com
SUMMARY:Peterborough Brick Festival
DESCRIPTION:A LEGO fan event dedicated to all things brick! \nThis will be a great day for families\, collectors\, adult builders and every other kind of LEGO fan. With lots to see and do including speed building competitions\, large scale displays\, activities\, traders selling loose bricks\, new LEGO sets\, retired LEGO sets\, minifigures & accessories plus a dedicated building area. \nEstablished in 2018\, this celebration of all things LEGO is open to fans of all ages. Booking tickets to secure your place is strongly advised as we regularly sell out. Early Bird tickets are also available giving you an hour of extra fun and a FREE LEGO gift on entry too!
URL:https://www.showmastersevents.com/event/peterborough-brick-festival/
LOCATION:Bushfield Leisure Centre\, Orton Centre\, Peterborough\, PE2 5RQ\, United Kingdom
CATEGORIES:Brick Festival
ATTACH;FMTTYPE=image/jpeg:https://www.showmastersevents.com/wp-content/uploads/2022/10/Pete.jpeg
GEO:52.5423681;-0.3013236
X-APPLE-STRUCTURED-LOCATION;VALUE=URI;X-ADDRESS=Bushfield Leisure Centre Orton Centre Peterborough PE2 5RQ United Kingdom;X-APPLE-RADIUS=500;X-TITLE=Orton Centre:geo:-0.3013236,52.5423681
END:VEVENT
BEGIN:VEVENT
DTSTART;TZID=Europe/London:20230722T090000
DTEND;TZID=Europe/London:20230723T170000
DTSTAMP:20260421T150107
CREATED:20230405T104044Z
LAST-MODIFIED:20230405T104044Z
UID:10000111-1690016400-1690131600@www.showmastersevents.com
SUMMARY:Glasgow Film & Comic Con
DESCRIPTION:[vc_row][vc_column]Visit Glasgow Film & Comic Con WebsiteVisit Glasgow Film & Comic Con Website[/vc_column][/vc_row][vc_row][vc_column][vc_column_text]Join us as Film & Comic Con Glasgow returns on the 22nd & 23rd July 2023 for a fun weekend where you can browse the many trader stalls\, get those hard to find items\, geek out and enjoy the cosplay\, a must for all fans of pop culture! \nSaturday from 9am – 6pm\nSunday from 10am – 5pm \nStandard Entry Price: £8* from 11 am (10.30am Sunday) \nEarly Entry Price: £15* from 9 am[/vc_column_text][/vc_column][/vc_row]
URL:https://www.showmastersevents.com/event/glasgow-film-comic-con-2/
LOCATION:Braehead Arena\, Braehead Shopping Centre\, King's Inch Rd\, Glasgow\, Glasgow\, G51 4BN\, United Kingdom
CATEGORIES:Comic Con
ATTACH;FMTTYPE=image/jpeg:https://www.showmastersevents.com/wp-content/uploads/2022/02/FCC-Glasgow-16-9.jpg
GEO:55.8758902;-4.3650292
X-APPLE-STRUCTURED-LOCATION;VALUE=URI;X-ADDRESS=Braehead Arena Braehead Shopping Centre King's Inch Rd Glasgow Glasgow G51 4BN United Kingdom;X-APPLE-RADIUS=500;X-TITLE=Braehead Shopping Centre\, King's Inch Rd:geo:-4.3650292,55.8758902
END:VEVENT
BEGIN:VEVENT
DTSTART;TZID=Europe/London:20230722T100000
DTEND;TZID=Europe/London:20230722T160000
DTSTAMP:20260421T150107
CREATED:20220808T211547Z
LAST-MODIFIED:20230427T190927Z
UID:10000072-1690020000-1690041600@www.showmastersevents.com
SUMMARY:Oxford Brick Festival
DESCRIPTION:WELCOME TO OXFORD BRICK FESTIVAL 2 \n\nThis is a celebration of all things LEGO. This will be a great day for families\, collectors\, adult builders and every other kind of LEGO fan\, with lots to see and do including speed building competitions\, large scale displays\, activities\, traders selling loose bricks\, new LEGO sets\, retired LEGO sets\, minifigures & accessories plus a dedicated building area. \nIf you enjoyed the first Oxford Brick Festival you will LOVE the second… with more displays\, more LEGO to buy\, more activities & even more fun! \nWe’re always looking for exciting builds to feature at Brick Festival events. If you’ve got something you’d like to show off\, head to the website to find out how! \nEvery Brick Festival has a dedicated building area where you can channel your creativity with thousands of LEGO bricks! \nIf you fancy a challenge you can take part in one of our Speed Building Competitions too. With a variety of different challenges for both children and adults. And real prizes up for grabs too! When you arrive at the event\, head over to the Activity Sign Up area to book your place – be quick though\, as places are limited.
URL:https://www.showmastersevents.com/event/oxford-brick-festival-2/
LOCATION:The Kings Centre\, Osney Mead\, Oxford\, Oxfordshire\, OX2 0ES\, United Kingdom
CATEGORIES:Brick Festival
ATTACH;FMTTYPE=image/jpeg:https://www.showmastersevents.com/wp-content/uploads/2022/02/OXBF1-Profile-Pic-16-9-1.jpg
GEO:51.748194;-1.2746238
X-APPLE-STRUCTURED-LOCATION;VALUE=URI;X-ADDRESS=The Kings Centre Osney Mead Oxford Oxfordshire OX2 0ES United Kingdom;X-APPLE-RADIUS=500;X-TITLE=Osney Mead:geo:-1.2746238,51.748194
END:VEVENT
END:VCALENDAR