BEGIN:VCALENDAR
VERSION:2.0
PRODID:-//Showmasters - ECPv6.15.16//NONSGML v1.0//EN
CALSCALE:GREGORIAN
METHOD:PUBLISH
X-ORIGINAL-URL:https://www.showmastersevents.com
X-WR-CALDESC:Events for Showmasters
REFRESH-INTERVAL;VALUE=DURATION:PT1H
X-Robots-Tag:noindex
X-PUBLISHED-TTL:PT1H
BEGIN:VTIMEZONE
TZID:Europe/London
BEGIN:DAYLIGHT
TZOFFSETFROM:+0000
TZOFFSETTO:+0100
TZNAME:BST
DTSTART:20220327T010000
END:DAYLIGHT
BEGIN:STANDARD
TZOFFSETFROM:+0100
TZOFFSETTO:+0000
TZNAME:GMT
DTSTART:20221030T010000
END:STANDARD
BEGIN:DAYLIGHT
TZOFFSETFROM:+0000
TZOFFSETTO:+0100
TZNAME:BST
DTSTART:20230326T010000
END:DAYLIGHT
BEGIN:STANDARD
TZOFFSETFROM:+0100
TZOFFSETTO:+0000
TZNAME:GMT
DTSTART:20231029T010000
END:STANDARD
BEGIN:DAYLIGHT
TZOFFSETFROM:+0000
TZOFFSETTO:+0100
TZNAME:BST
DTSTART:20240331T010000
END:DAYLIGHT
BEGIN:STANDARD
TZOFFSETFROM:+0100
TZOFFSETTO:+0000
TZNAME:GMT
DTSTART:20241027T010000
END:STANDARD
END:VTIMEZONE
BEGIN:VEVENT
DTSTART;TZID=Europe/London:20230603T100000
DTEND;TZID=Europe/London:20230603T170000
DTSTAMP:20260421T134311
CREATED:20221102T115615Z
LAST-MODIFIED:20221102T120130Z
UID:10000107-1685786400-1685811600@www.showmastersevents.com
SUMMARY:Exeter Brick Festival
DESCRIPTION:A LEGO fan event dedicated to all things brick! \nThis will be a great day for families\, collectors\, adult builders and every other kind of LEGO fan. With lots to see and do including speed building competitions\, large scale displays\, activities\, traders selling loose bricks\, new LEGO sets\, retired LEGO sets\, minifigures & accessories plus a dedicated building area. \nEstablished in 2018\, this celebration of all things LEGO is open to fans of all ages. Booking tickets to secure your place is strongly advised as we regularly sell out. Early Bird tickets are also available giving you an hour of extra fun and a FREE LEGO gift on entry too! \nThe Exeter Brick Festival will take place on Saturday 3rd June 2023 at the Matford Centre.
URL:https://www.showmastersevents.com/event/exeter-brick-festival/
LOCATION:Matford Centre\, Matford Park Road\, Marsh Barton\, Exeter\, EX2 8FD\, United Kingdom
CATEGORIES:Brick Festival
ATTACH;FMTTYPE=image/jpeg:https://www.showmastersevents.com/wp-content/uploads/2022/10/Exet.jpeg
GEO:50.6975149;-3.5229068
X-APPLE-STRUCTURED-LOCATION;VALUE=URI;X-ADDRESS=Matford Centre Matford Park Road Marsh Barton Exeter EX2 8FD United Kingdom;X-APPLE-RADIUS=500;X-TITLE=Matford Park Road:geo:-3.5229068,50.6975149
END:VEVENT
BEGIN:VEVENT
DTSTART;TZID=Europe/London:20230604T100000
DTEND;TZID=Europe/London:20230604T170000
DTSTAMP:20260421T134311
CREATED:20230330T153152Z
LAST-MODIFIED:20230413T133412Z
UID:10000125-1685872800-1685898000@www.showmastersevents.com
SUMMARY:Brentwood Brick Festival
DESCRIPTION:A LEGO fan event dedicated to all things brick! \nThis will be a great day for families\, collectors\, adult builders and every other kind of LEGO fan. With lots to see and do including speed building competitions\, large scale displays\, activities\, traders selling loose bricks\, new LEGO sets\, retired LEGO sets\, minifigures & accessories plus a dedicated building area. \nEstablished in 2018\, this celebration of all things LEGO is open to fans of all ages. Booking tickets to secure your place is strongly advised as we regularly sell out. Early Bird tickets are also available giving you an hour of extra fun and a FREE LEGO gift on entry too!
URL:https://www.showmastersevents.com/event/brentwood-brick-festival/
LOCATION:The Brentwood Centre\, Doddinghurst Road\, Pilgrims Hatch\, Brentwood\, CM15 9NN\, United Kingdom
CATEGORIES:Brick Festival
ATTACH;FMTTYPE=image/png:https://www.showmastersevents.com/wp-content/uploads/2023/03/Brentwood.png
GEO:51.6488851;0.3074611
X-APPLE-STRUCTURED-LOCATION;VALUE=URI;X-ADDRESS=The Brentwood Centre Doddinghurst Road Pilgrims Hatch Brentwood CM15 9NN United Kingdom;X-APPLE-RADIUS=500;X-TITLE=Doddinghurst Road\, Pilgrims Hatch:geo:0.3074611,51.6488851
END:VEVENT
BEGIN:VEVENT
DTSTART;TZID=Europe/London:20230610T100000
DTEND;TZID=Europe/London:20230610T170000
DTSTAMP:20260421T134311
CREATED:20230330T154631Z
LAST-MODIFIED:20230330T154631Z
UID:10000126-1686391200-1686416400@www.showmastersevents.com
SUMMARY:Liverpool Brick Festival
DESCRIPTION:A LEGO fan event dedicated to all things brick! \nThis will be a great day for families\, collectors\, adult builders and every other kind of LEGO fan. With lots to see and do including speed building competitions\, large scale displays\, activities\, traders selling loose bricks\, new LEGO sets\, retired LEGO sets\, minifigures & accessories plus a dedicated building area. \nEstablished in 2018\, this celebration of all things LEGO is open to fans of all ages. Booking tickets to secure your place is strongly advised as we regularly sell out. Early Bird tickets are also available giving you an hour of extra fun and a FREE LEGO gift on entry too!
URL:https://www.showmastersevents.com/event/liverpool-brick-festival/
LOCATION:Liverpool Exhibition Centre\, King's Dock\, Liverpool\, L3 4FP\, United Kingdom
CATEGORIES:Brick Festival
ATTACH;FMTTYPE=image/jpeg:https://www.showmastersevents.com/wp-content/uploads/2022/10/Live.jpeg
GEO:53.3947805;-2.9894132
X-APPLE-STRUCTURED-LOCATION;VALUE=URI;X-ADDRESS=Liverpool Exhibition Centre King's Dock Liverpool L3 4FP United Kingdom;X-APPLE-RADIUS=500;X-TITLE=King's Dock:geo:-2.9894132,53.3947805
END:VEVENT
BEGIN:VEVENT
DTSTART;TZID=Europe/London:20230617T100000
DTEND;TZID=Europe/London:20230617T170000
DTSTAMP:20260421T134311
CREATED:20230330T155220Z
LAST-MODIFIED:20230330T155220Z
UID:10000127-1686996000-1687021200@www.showmastersevents.com
SUMMARY:Cambridge Brick Festival
DESCRIPTION:A LEGO fan event dedicated to all things brick! \nThis will be a great day for families\, collectors\, adult builders and every other kind of LEGO fan. With lots to see and do including speed building competitions\, large scale displays\, activities\, traders selling loose bricks\, new LEGO sets\, retired LEGO sets\, minifigures & accessories plus a dedicated building area. \nEstablished in 2018\, this celebration of all things LEGO is open to fans of all ages. Booking tickets to secure your place is strongly advised as we regularly sell out. Early Bird tickets are also available giving you an hour of extra fun and a FREE LEGO gift on entry too!
URL:https://www.showmastersevents.com/event/cambridge-brick-festival/
LOCATION:One Leisure St Ives\, Westwood Road\, St Ives\, PE27 6WW\, United Kingdom
CATEGORIES:Brick Festival
ATTACH;FMTTYPE=image/jpeg:https://www.showmastersevents.com/wp-content/uploads/2022/10/Camb.jpeg
GEO:52.3286096;-0.0803872
X-APPLE-STRUCTURED-LOCATION;VALUE=URI;X-ADDRESS=One Leisure St Ives Westwood Road St Ives PE27 6WW United Kingdom;X-APPLE-RADIUS=500;X-TITLE=Westwood Road:geo:-0.0803872,52.3286096
END:VEVENT
BEGIN:VEVENT
DTSTART;TZID=Europe/London:20230618T080000
DTEND;TZID=Europe/London:20230618T170000
DTSTAMP:20260421T134311
CREATED:20220210T172127Z
LAST-MODIFIED:20221010T133802Z
UID:10000075-1687075200-1687107600@www.showmastersevents.com
SUMMARY:London Film Fair
DESCRIPTION:[vc_row][vc_column]Visit London Film Fair WebsiteVisit London Film Fair Website[/vc_column][/vc_row][vc_row][vc_column][vc_column_text]Established in 1973! \nThis event is the continuation of a legacy that started back in the early seventies\, and over the years have seen different names and organizers but its roots orginate from the original Collector’s Film Conventions that were organized by Ed Mason. Now under new management\, the future of the event is secured. \nThe events are held at the Royal National Hotel\, near Russell Square\, with up to 5 events a year. \nThe conventions presents dealers from all over the UK\, Europe\, US\, Canada\, Australia and South America that specializes in vintage and modern film memorabilia. Items cover the history of cinema from the silents to the present day blockbusters. \nThe London Film Fair will appeal to avid film buffs\, collectors\, archivists researchers and students. \nA must for anyone with an interest in cinema and cult television! \nSTILLS – VINTAGE POSTERS – MODERN POSTERS – PROGRAMMES – MAGAZINES – BOOKS – DVDS – SOUNDTRACKS – LOBBY CARDS – TOYS – AUTOGRAPHS – VIDEOS – POSTCARDS – ACTORS & DIRECTORS SIGNINGS.[/vc_column_text][/vc_column][/vc_row]
URL:https://www.showmastersevents.com/event/london-film-fair/2023-06-18/
LOCATION:The Royal National Hotel\, 38-51 Bedford Way\, London\, London\, WC1H 0DG
CATEGORIES:London Film Fair
ATTACH;FMTTYPE=image/jpeg:https://www.showmastersevents.com/wp-content/uploads/2022/02/FFLogo-16-9.jpg
GEO:51.5234685;-0.1273138
X-APPLE-STRUCTURED-LOCATION;VALUE=URI;X-ADDRESS=The Royal National Hotel 38-51 Bedford Way London London WC1H 0DG;X-APPLE-RADIUS=500;X-TITLE=38-51 Bedford Way:geo:-0.1273138,51.5234685
END:VEVENT
BEGIN:VEVENT
DTSTART;TZID=Europe/London:20230618T100000
DTEND;TZID=Europe/London:20230618T160000
DTSTAMP:20260421T134311
CREATED:20221102T115937Z
LAST-MODIFIED:20230427T190514Z
UID:10000108-1687082400-1687104000@www.showmastersevents.com
SUMMARY:Leeds Brick Festival
DESCRIPTION:A LEGO fan event dedicated to all things brick! \nThis will be a great day for families\, collectors\, adult builders and every other kind of LEGO fan. With lots to see and do including speed building competitions\, large scale displays\, activities\, traders selling loose bricks\, new LEGO sets\, retired LEGO sets\, minifigures & accessories plus a dedicated building area. \nEstablished in 2018\, this celebration of all things LEGO is open to fans of all ages. Booking tickets to secure your place is strongly advised as we regularly sell out. Early Bird tickets are also available giving you an hour of extra fun and a FREE LEGO gift on entry too! \nThe Leeds Brick Festival will take place on Sunday 18th June 2023 at the New Dock Hall within the Royal Armouries.
URL:https://www.showmastersevents.com/event/leeds-brick-festival/
LOCATION:Royal Armouries\, Armouries Dr\, Leeds\, West Yorkshire\, LS10 1LT\, United Kingdom
CATEGORIES:Brick Festival
ATTACH;FMTTYPE=image/jpeg:https://www.showmastersevents.com/wp-content/uploads/2022/10/Leed.jpeg
GEO:53.7899433;-1.5305087
X-APPLE-STRUCTURED-LOCATION;VALUE=URI;X-ADDRESS=Royal Armouries Armouries Dr Leeds West Yorkshire LS10 1LT United Kingdom;X-APPLE-RADIUS=500;X-TITLE=Armouries Dr:geo:-1.5305087,53.7899433
END:VEVENT
BEGIN:VEVENT
DTSTART;TZID=Europe/London:20230625T080000
DTEND;TZID=Europe/London:20230625T170000
DTSTAMP:20260421T134311
CREATED:20220208T124755Z
LAST-MODIFIED:20230921T111747Z
UID:10000086-1687680000-1687712400@www.showmastersevents.com
SUMMARY:London Comic Mart
DESCRIPTION:[vc_row][vc_column]Visit London Comic Mart WebsiteVisit London Comic Mart Website[/vc_column][/vc_row][vc_row][vc_column][vc_column_text]Consider yourself a bit of a geek? Then London Comic Mart; an established event that’s been running for over 30 years in one form or another\, is definitely the place to go! The Royal National Hotel at Russell Square plays host to a great day out for adults and children alike. \nIf you’re looking for rare comics or exciting new ones we have a huge range of items available from over 120 traders stalls. Comic Mart is not just about the comics however\, as there are many other treasures to be found! We would recommend that you come along early – as the saying goes the early bird catches the worm\, and this is exactly the same with the bargains at the event. \nDon’t forget you can also sell your items here too! Please contact us for more information. \nShow opening times: \n11am – 4pm \nFree Entry from 12 noon \nEarly Entry Price: £5 from 11 am – 12 noon[/vc_column_text][/vc_column][/vc_row]
URL:https://www.showmastersevents.com/event/london-comic-mart/2023-06-25/
LOCATION:The Royal National Hotel\, 38-51 Bedford Way\, London\, London\, WC1H 0DG
CATEGORIES:London Comic Mart
ATTACH;FMTTYPE=image/jpeg:https://www.showmastersevents.com/wp-content/uploads/2022/02/London-Comic-Mart-16-9.jpg
GEO:51.5234685;-0.1273138
X-APPLE-STRUCTURED-LOCATION;VALUE=URI;X-ADDRESS=The Royal National Hotel 38-51 Bedford Way London London WC1H 0DG;X-APPLE-RADIUS=500;X-TITLE=38-51 Bedford Way:geo:-0.1273138,51.5234685
END:VEVENT
BEGIN:VEVENT
DTSTART;TZID=Europe/London:20230625T080000
DTEND;TZID=Europe/London:20230625T170000
DTSTAMP:20260421T134311
CREATED:20220210T171139Z
LAST-MODIFIED:20221010T134345Z
UID:10000098-1687680000-1687712400@www.showmastersevents.com
SUMMARY:London Pop & Collectibles Market
DESCRIPTION:[vc_row][vc_column]Visit London Pop & Collectibles Market WebsiteVisit London Pop & Collectibles Market Website[/vc_column][/vc_row][vc_row][vc_column][vc_column_text]Consider yourself a bit of a geek? Love all things pop culture? Then London Pop Market is the event for you. \nThe Royal National Hotel at Russell Square plays host to a great day out for adults and children alike. \nIf you’re looking for that rare chase\, Limited Edition or signed Funko Pop then this is the show for you. We have a huge range of items available. London Pop Market is not just about Funko Pops however\, as there are many other treasures to be found! We would recommend that you come along early – as the saying goes the early bird catches the worm\, and this is exactly the same with the bargains at the event. \nShow opening times: \n11am – 4pm \nFree Entry from 12 noon\nEarly Entry Price: £5 from 11 am – 12 noon[/vc_column_text][/vc_column][/vc_row]
URL:https://www.showmastersevents.com/event/london-pop-market/2023-06-25/
LOCATION:The Royal National Hotel\, 38-51 Bedford Way\, London\, London\, WC1H 0DG
CATEGORIES:London Pop Market
ATTACH;FMTTYPE=image/jpeg:https://www.showmastersevents.com/wp-content/uploads/2022/05/popmarketlogo-16-9v3.jpg
GEO:51.5234685;-0.1273138
X-APPLE-STRUCTURED-LOCATION;VALUE=URI;X-ADDRESS=The Royal National Hotel 38-51 Bedford Way London London WC1H 0DG;X-APPLE-RADIUS=500;X-TITLE=38-51 Bedford Way:geo:-0.1273138,51.5234685
END:VEVENT
END:VCALENDAR