BEGIN:VCALENDAR
VERSION:2.0
PRODID:-//Showmasters - ECPv6.15.16//NONSGML v1.0//EN
CALSCALE:GREGORIAN
METHOD:PUBLISH
X-ORIGINAL-URL:https://www.showmastersevents.com
X-WR-CALDESC:Events for Showmasters
REFRESH-INTERVAL;VALUE=DURATION:PT1H
X-Robots-Tag:noindex
X-PUBLISHED-TTL:PT1H
BEGIN:VTIMEZONE
TZID:Europe/London
BEGIN:DAYLIGHT
TZOFFSETFROM:+0000
TZOFFSETTO:+0100
TZNAME:BST
DTSTART:20220327T010000
END:DAYLIGHT
BEGIN:STANDARD
TZOFFSETFROM:+0100
TZOFFSETTO:+0000
TZNAME:GMT
DTSTART:20221030T010000
END:STANDARD
BEGIN:DAYLIGHT
TZOFFSETFROM:+0000
TZOFFSETTO:+0100
TZNAME:BST
DTSTART:20230326T010000
END:DAYLIGHT
BEGIN:STANDARD
TZOFFSETFROM:+0100
TZOFFSETTO:+0000
TZNAME:GMT
DTSTART:20231029T010000
END:STANDARD
BEGIN:DAYLIGHT
TZOFFSETFROM:+0000
TZOFFSETTO:+0100
TZNAME:BST
DTSTART:20240331T010000
END:DAYLIGHT
BEGIN:STANDARD
TZOFFSETFROM:+0100
TZOFFSETTO:+0000
TZNAME:GMT
DTSTART:20241027T010000
END:STANDARD
END:VTIMEZONE
BEGIN:VEVENT
DTSTART;TZID=Europe/London:20230507T080000
DTEND;TZID=Europe/London:20230507T170000
DTSTAMP:20260421T150405
CREATED:20220208T124755Z
LAST-MODIFIED:20230921T111747Z
UID:10000085-1683446400-1683478800@www.showmastersevents.com
SUMMARY:London Comic Mart
DESCRIPTION:[vc_row][vc_column]Visit London Comic Mart WebsiteVisit London Comic Mart Website[/vc_column][/vc_row][vc_row][vc_column][vc_column_text]Consider yourself a bit of a geek? Then London Comic Mart; an established event that’s been running for over 30 years in one form or another\, is definitely the place to go! The Royal National Hotel at Russell Square plays host to a great day out for adults and children alike. \nIf you’re looking for rare comics or exciting new ones we have a huge range of items available from over 120 traders stalls. Comic Mart is not just about the comics however\, as there are many other treasures to be found! We would recommend that you come along early – as the saying goes the early bird catches the worm\, and this is exactly the same with the bargains at the event. \nDon’t forget you can also sell your items here too! Please contact us for more information. \nShow opening times: \n11am – 4pm \nFree Entry from 12 noon \nEarly Entry Price: £5 from 11 am – 12 noon[/vc_column_text][/vc_column][/vc_row]
URL:https://www.showmastersevents.com/event/london-comic-mart/2023-05-07/
LOCATION:The Royal National Hotel\, 38-51 Bedford Way\, London\, London\, WC1H 0DG
CATEGORIES:London Comic Mart
ATTACH;FMTTYPE=image/jpeg:https://www.showmastersevents.com/wp-content/uploads/2022/02/London-Comic-Mart-16-9.jpg
GEO:51.5234685;-0.1273138
X-APPLE-STRUCTURED-LOCATION;VALUE=URI;X-ADDRESS=The Royal National Hotel 38-51 Bedford Way London London WC1H 0DG;X-APPLE-RADIUS=500;X-TITLE=38-51 Bedford Way:geo:-0.1273138,51.5234685
END:VEVENT
BEGIN:VEVENT
DTSTART;TZID=Europe/London:20230507T080000
DTEND;TZID=Europe/London:20230507T170000
DTSTAMP:20260421T150405
CREATED:20220210T171139Z
LAST-MODIFIED:20221010T134345Z
UID:10000097-1683446400-1683478800@www.showmastersevents.com
SUMMARY:London Pop & Collectibles Market
DESCRIPTION:[vc_row][vc_column]Visit London Pop & Collectibles Market WebsiteVisit London Pop & Collectibles Market Website[/vc_column][/vc_row][vc_row][vc_column][vc_column_text]Consider yourself a bit of a geek? Love all things pop culture? Then London Pop Market is the event for you. \nThe Royal National Hotel at Russell Square plays host to a great day out for adults and children alike. \nIf you’re looking for that rare chase\, Limited Edition or signed Funko Pop then this is the show for you. We have a huge range of items available. London Pop Market is not just about Funko Pops however\, as there are many other treasures to be found! We would recommend that you come along early – as the saying goes the early bird catches the worm\, and this is exactly the same with the bargains at the event. \nShow opening times: \n11am – 4pm \nFree Entry from 12 noon\nEarly Entry Price: £5 from 11 am – 12 noon[/vc_column_text][/vc_column][/vc_row]
URL:https://www.showmastersevents.com/event/london-pop-market/2023-05-07/
LOCATION:The Royal National Hotel\, 38-51 Bedford Way\, London\, London\, WC1H 0DG
CATEGORIES:London Pop Market
ATTACH;FMTTYPE=image/jpeg:https://www.showmastersevents.com/wp-content/uploads/2022/05/popmarketlogo-16-9v3.jpg
GEO:51.5234685;-0.1273138
X-APPLE-STRUCTURED-LOCATION;VALUE=URI;X-ADDRESS=The Royal National Hotel 38-51 Bedford Way London London WC1H 0DG;X-APPLE-RADIUS=500;X-TITLE=38-51 Bedford Way:geo:-0.1273138,51.5234685
END:VEVENT
BEGIN:VEVENT
DTSTART;TZID=Europe/London:20230513T100000
DTEND;TZID=Europe/London:20230513T170000
DTSTAMP:20260421T150405
CREATED:20230330T150009Z
LAST-MODIFIED:20230330T150009Z
UID:10000122-1683972000-1683997200@www.showmastersevents.com
SUMMARY:Birmingham Brick Festival
DESCRIPTION:WELCOME TO BIRMINGHAM BRICK FESTIVAL \n\nThis is a celebration of all things LEGO. This will be a great day for families\, collectors\, adult builders and every other kind of LEGO fan\, with lots to see and do including speed building competitions\, large scale displays\, activities\, traders selling loose bricks\, new LEGO sets\, retired LEGO sets\, minifigures & accessories plus a dedicated building area. \nIf you enjoyed the first Birmingham Brick Festival you will LOVE the second… with more displays\, more LEGO to buy\, more activities & even more fun! \nWe’re always looking for exciting builds to feature at Brick Festival events. If you’ve got something you’d like to show off\, head to the website to find out how! \nEvery Brick Festival has a dedicated building area where you can channel your creativity with thousands of LEGO bricks! \nIf you fancy a challenge you can take part in one of our Speed Building Competitions too. With a variety of different challenges for both children and adults. And real prizes up for grabs too! When you arrive at the event\, head over to the Activity Sign Up area to book your place – be quick though\, as places are limited.
URL:https://www.showmastersevents.com/event/birmingham-brick-festival-2/
LOCATION:The Bond at Digbeth\, 180-182 Fazeley Street\, Birmingham\, B5 5SE\, United Kingdom
CATEGORIES:Brick Festival
ATTACH;FMTTYPE=image/jpeg:https://www.showmastersevents.com/wp-content/uploads/2022/10/Birm.jpeg
GEO:52.4782173;-1.8817793
X-APPLE-STRUCTURED-LOCATION;VALUE=URI;X-ADDRESS=The Bond at Digbeth 180-182 Fazeley Street Birmingham B5 5SE United Kingdom;X-APPLE-RADIUS=500;X-TITLE=180-182 Fazeley Street:geo:-1.8817793,52.4782173
END:VEVENT
BEGIN:VEVENT
DTSTART;TZID=Europe/London:20230514T100000
DTEND;TZID=Europe/London:20230514T170000
DTSTAMP:20260421T150405
CREATED:20221102T115241Z
LAST-MODIFIED:20230330T152122Z
UID:10000106-1684058400-1684083600@www.showmastersevents.com
SUMMARY:Weston Brick Festival
DESCRIPTION:A LEGO fan event dedicated to all things brick! \nThis will be a great day for families\, collectors\, adult builders and every other kind of LEGO fan. With lots to see and do including speed building competitions\, large scale displays\, activities\, traders selling loose bricks\, new LEGO sets\, retired LEGO sets\, minifigures & accessories plus a dedicated building area. \nEstablished in 2018\, this celebration of all things LEGO is open to fans of all ages. Booking tickets to secure your place is strongly advised as we regularly sell out. Early Bird tickets are also available giving you an hour of extra fun and a FREE LEGO gift on entry too! \nThe Weston Brick Festival will take place on Saturday 14th May 2023 at Hutton Moor.
URL:https://www.showmastersevents.com/event/weston-brick-festival/
LOCATION:Hutton Moor Leisure Centre\, Hutton Moor Road\, Weston-super-Mare\, North Somerset\, BS22 8LY\, United Kingdom
CATEGORIES:Brick Festival
ATTACH;FMTTYPE=image/jpeg:https://www.showmastersevents.com/wp-content/uploads/2022/10/West.jpeg
GEO:51.3456057;-2.9476462
X-APPLE-STRUCTURED-LOCATION;VALUE=URI;X-ADDRESS=Hutton Moor Leisure Centre Hutton Moor Road Weston-super-Mare North Somerset BS22 8LY United Kingdom;X-APPLE-RADIUS=500;X-TITLE=Hutton Moor Road:geo:-2.9476462,51.3456057
END:VEVENT
BEGIN:VEVENT
DTSTART;TZID=Europe/London:20230521T100000
DTEND;TZID=Europe/London:20230521T170000
DTSTAMP:20260421T150405
CREATED:20220808T211233Z
LAST-MODIFIED:20220808T211233Z
UID:10000071-1684663200-1684688400@www.showmastersevents.com
SUMMARY:Cheshunt Brick Festival
DESCRIPTION:WELCOME TO CHESHUNT BRICK FESTIVAL 2 \n\nThis is a celebration of all things LEGO. This will be a great day for families\, collectors\, adult builders and every other kind of LEGO fan\, with lots to see and do including speed building competitions\, large scale displays\, activities\, traders selling loose bricks\, new LEGO sets\, retired LEGO sets\, minifigures & accessories plus a dedicated building area. \nIf you enjoyed the first Cheshunt Brick Festival you will LOVE the second… with more displays\, more LEGO to buy\, more activities & even more fun! \nOver the day there will be lots to do in addition to the displays and browsing our fantastic traders. \nEvery Brick Festival has a dedicated building area where you can channel your creativity with thousands of LEGO bricks! \nIf you fancy a challenge you can take part in one of our Speed Building Competitions too. With a variety of different challenges for both children and adults. And real prizes up for grabs too! When you arrive at the event\, head over to the Activity Sign Up area to book your place – be quick though\, as places are limited.
URL:https://www.showmastersevents.com/event/cheshunt-brick-festival-2/
LOCATION:The Laura Trott Leisure Centre\, 44 Windmill Ln\, Cheshunt\, Hertfordshire\, EN8 9AJ\, United Kingdom
CATEGORIES:Brick Festival
ATTACH;FMTTYPE=image/jpeg:https://www.showmastersevents.com/wp-content/uploads/2022/03/CBF1-Profile-Pic-16-9.jpg
GEO:51.7025633;-0.0317711
X-APPLE-STRUCTURED-LOCATION;VALUE=URI;X-ADDRESS=The Laura Trott Leisure Centre 44 Windmill Ln Cheshunt Hertfordshire EN8 9AJ United Kingdom;X-APPLE-RADIUS=500;X-TITLE=44 Windmill Ln:geo:-0.0317711,51.7025633
END:VEVENT
BEGIN:VEVENT
DTSTART;TZID=Europe/London:20230527T100000
DTEND;TZID=Europe/London:20230527T170000
DTSTAMP:20260421T150405
CREATED:20230330T151354Z
LAST-MODIFIED:20230330T152144Z
UID:10000123-1685181600-1685206800@www.showmastersevents.com
SUMMARY:Newport Brick Festival
DESCRIPTION:A LEGO fan event dedicated to all things brick! \nThis will be a great day for families\, collectors\, adult builders and every other kind of LEGO fan. With lots to see and do including speed building competitions\, large scale displays\, activities\, traders selling loose bricks\, new LEGO sets\, retired LEGO sets\, minifigures & accessories plus a dedicated building area. \nEstablished in 2018\, this celebration of all things LEGO is open to fans of all ages. Booking tickets to secure your place is strongly advised as we regularly sell out. Early Bird tickets are also available giving you an hour of extra fun and a FREE LEGO gift on entry too!
URL:https://www.showmastersevents.com/event/newport-brick-festival/
LOCATION:ICC Wales\, The Coldra\, Newport\, NP18 1HQ\, United Kingdom
CATEGORIES:Brick Festival
ATTACH;FMTTYPE=image/jpeg:https://www.showmastersevents.com/wp-content/uploads/2022/10/Newp.jpeg
GEO:51.6006889;-2.9269616
X-APPLE-STRUCTURED-LOCATION;VALUE=URI;X-ADDRESS=ICC Wales The Coldra Newport NP18 1HQ United Kingdom;X-APPLE-RADIUS=500;X-TITLE=The Coldra:geo:-2.9269616,51.6006889
END:VEVENT
BEGIN:VEVENT
DTSTART;TZID=Europe/London:20230528T100000
DTEND;TZID=Europe/London:20230528T170000
DTSTAMP:20260421T150405
CREATED:20230330T151951Z
LAST-MODIFIED:20230330T151951Z
UID:10000124-1685268000-1685293200@www.showmastersevents.com
SUMMARY:Carlisle Brick Festival
DESCRIPTION:A LEGO fan event dedicated to all things brick! \nThis will be a great day for families\, collectors\, adult builders and every other kind of LEGO fan. With lots to see and do including speed building competitions\, large scale displays\, activities\, traders selling loose bricks\, new LEGO sets\, retired LEGO sets\, minifigures & accessories plus a dedicated building area. \nEstablished in 2018\, this celebration of all things LEGO is open to fans of all ages. Booking tickets to secure your place is strongly advised as we regularly sell out. Early Bird tickets are also available giving you an hour of extra fun and a FREE LEGO gift on entry too!
URL:https://www.showmastersevents.com/event/carlisle-brick-festival/
LOCATION:Sands Centre\, Newmarket Road\, Carlisle\, CA1 1JQ\, United Kingdom
CATEGORIES:Brick Festival
ATTACH;FMTTYPE=image/jpeg:https://www.showmastersevents.com/wp-content/uploads/2022/10/Carl.jpeg
GEO:54.8987675;-2.9336044
X-APPLE-STRUCTURED-LOCATION;VALUE=URI;X-ADDRESS=Sands Centre Newmarket Road Carlisle CA1 1JQ United Kingdom;X-APPLE-RADIUS=500;X-TITLE=Newmarket Road:geo:-2.9336044,54.8987675
END:VEVENT
END:VCALENDAR