BEGIN:VCALENDAR
VERSION:2.0
PRODID:-//Showmasters - ECPv6.15.16//NONSGML v1.0//EN
CALSCALE:GREGORIAN
METHOD:PUBLISH
X-WR-CALNAME:Showmasters
X-ORIGINAL-URL:https://www.showmastersevents.com
X-WR-CALDESC:Events for Showmasters
REFRESH-INTERVAL;VALUE=DURATION:PT1H
X-Robots-Tag:noindex
X-PUBLISHED-TTL:PT1H
BEGIN:VTIMEZONE
TZID:Europe/London
BEGIN:DAYLIGHT
TZOFFSETFROM:+0000
TZOFFSETTO:+0100
TZNAME:BST
DTSTART:20220327T010000
END:DAYLIGHT
BEGIN:STANDARD
TZOFFSETFROM:+0100
TZOFFSETTO:+0000
TZNAME:GMT
DTSTART:20221030T010000
END:STANDARD
BEGIN:DAYLIGHT
TZOFFSETFROM:+0000
TZOFFSETTO:+0100
TZNAME:BST
DTSTART:20230326T010000
END:DAYLIGHT
BEGIN:STANDARD
TZOFFSETFROM:+0100
TZOFFSETTO:+0000
TZNAME:GMT
DTSTART:20231029T010000
END:STANDARD
BEGIN:DAYLIGHT
TZOFFSETFROM:+0000
TZOFFSETTO:+0100
TZNAME:BST
DTSTART:20240331T010000
END:DAYLIGHT
BEGIN:STANDARD
TZOFFSETFROM:+0100
TZOFFSETTO:+0000
TZNAME:GMT
DTSTART:20241027T010000
END:STANDARD
END:VTIMEZONE
BEGIN:VEVENT
DTSTART;TZID=Europe/London:20230205T080000
DTEND;TZID=Europe/London:20230205T170000
DTSTAMP:20260421T185831
CREATED:20220208T124755Z
LAST-MODIFIED:20230921T111747Z
UID:10000083-1675584000-1675616400@www.showmastersevents.com
SUMMARY:London Comic Mart
DESCRIPTION:[vc_row][vc_column]Visit London Comic Mart WebsiteVisit London Comic Mart Website[/vc_column][/vc_row][vc_row][vc_column][vc_column_text]Consider yourself a bit of a geek? Then London Comic Mart; an established event that’s been running for over 30 years in one form or another\, is definitely the place to go! The Royal National Hotel at Russell Square plays host to a great day out for adults and children alike. \nIf you’re looking for rare comics or exciting new ones we have a huge range of items available from over 120 traders stalls. Comic Mart is not just about the comics however\, as there are many other treasures to be found! We would recommend that you come along early – as the saying goes the early bird catches the worm\, and this is exactly the same with the bargains at the event. \nDon’t forget you can also sell your items here too! Please contact us for more information. \nShow opening times: \n11am – 4pm \nFree Entry from 12 noon \nEarly Entry Price: £5 from 11 am – 12 noon[/vc_column_text][/vc_column][/vc_row]
URL:https://www.showmastersevents.com/event/london-comic-mart/2023-02-05/
LOCATION:The Royal National Hotel\, 38-51 Bedford Way\, London\, London\, WC1H 0DG
CATEGORIES:London Comic Mart
ATTACH;FMTTYPE=image/jpeg:https://www.showmastersevents.com/wp-content/uploads/2022/02/London-Comic-Mart-16-9.jpg
GEO:51.5234685;-0.1273138
X-APPLE-STRUCTURED-LOCATION;VALUE=URI;X-ADDRESS=The Royal National Hotel 38-51 Bedford Way London London WC1H 0DG;X-APPLE-RADIUS=500;X-TITLE=38-51 Bedford Way:geo:-0.1273138,51.5234685
END:VEVENT
BEGIN:VEVENT
DTSTART;TZID=Europe/London:20230205T080000
DTEND;TZID=Europe/London:20230205T170000
DTSTAMP:20260421T185831
CREATED:20220210T171139Z
LAST-MODIFIED:20221010T134345Z
UID:10000095-1675584000-1675616400@www.showmastersevents.com
SUMMARY:London Pop & Collectibles Market
DESCRIPTION:[vc_row][vc_column]Visit London Pop & Collectibles Market WebsiteVisit London Pop & Collectibles Market Website[/vc_column][/vc_row][vc_row][vc_column][vc_column_text]Consider yourself a bit of a geek? Love all things pop culture? Then London Pop Market is the event for you. \nThe Royal National Hotel at Russell Square plays host to a great day out for adults and children alike. \nIf you’re looking for that rare chase\, Limited Edition or signed Funko Pop then this is the show for you. We have a huge range of items available. London Pop Market is not just about Funko Pops however\, as there are many other treasures to be found! We would recommend that you come along early – as the saying goes the early bird catches the worm\, and this is exactly the same with the bargains at the event. \nShow opening times: \n11am – 4pm \nFree Entry from 12 noon\nEarly Entry Price: £5 from 11 am – 12 noon[/vc_column_text][/vc_column][/vc_row]
URL:https://www.showmastersevents.com/event/london-pop-market/2023-02-05/
LOCATION:The Royal National Hotel\, 38-51 Bedford Way\, London\, London\, WC1H 0DG
CATEGORIES:London Pop Market
ATTACH;FMTTYPE=image/jpeg:https://www.showmastersevents.com/wp-content/uploads/2022/05/popmarketlogo-16-9v3.jpg
GEO:51.5234685;-0.1273138
X-APPLE-STRUCTURED-LOCATION;VALUE=URI;X-ADDRESS=The Royal National Hotel 38-51 Bedford Way London London WC1H 0DG;X-APPLE-RADIUS=500;X-TITLE=38-51 Bedford Way:geo:-0.1273138,51.5234685
END:VEVENT
BEGIN:VEVENT
DTSTART;TZID=Europe/London:20230212T100000
DTEND;TZID=Europe/London:20230212T170000
DTSTAMP:20260421T185831
CREATED:20220210T185739Z
LAST-MODIFIED:20221214T143528Z
UID:10000116-1676196000-1676221200@www.showmastersevents.com
SUMMARY:Brick Festival London
DESCRIPTION:[vc_row][vc_column]Visit Brick Festival WebsiteVisit Brick Festival Website[/vc_column][/vc_row][vc_row][vc_column][vc_column_text]After our amazing launch event the Brick Festival returns to London\, bringing you even more incredible LEGO builds\, activities\, build challenges\, and way more LEGO available to buy – Boxed sets\, Minifigures\, loose bricks and accessories! \nThis celebration of all things LEGO is open to fans of all ages. Booking tickets to secure your place is always advisable – Early Bird tickets are still available\, but selling fast\, giving you an hour of extra fun and a FREE LEGO gift too!\nLondon Brick Festival will take place on Sunday 13th February 2022 at the Royal National Hotel from 10am – 5pm.[/vc_column_text][/vc_column][/vc_row]
URL:https://www.showmastersevents.com/event/brick-festival-london/2023-02-12/
LOCATION:The Royal National Hotel\, 38-51 Bedford Way\, London\, London\, WC1H 0DG
CATEGORIES:Brick Festival
ATTACH;FMTTYPE=image/jpeg:https://www.showmastersevents.com/wp-content/uploads/2022/10/Lond.jpeg
GEO:51.5234685;-0.1273138
X-APPLE-STRUCTURED-LOCATION;VALUE=URI;X-ADDRESS=The Royal National Hotel 38-51 Bedford Way London London WC1H 0DG;X-APPLE-RADIUS=500;X-TITLE=38-51 Bedford Way:geo:-0.1273138,51.5234685
END:VEVENT
BEGIN:VEVENT
DTSTART;TZID=Europe/London:20230219T100000
DTEND;TZID=Europe/London:20230219T170000
DTSTAMP:20260421T185831
CREATED:20221010T135418Z
LAST-MODIFIED:20221214T143629Z
UID:10000102-1676800800-1676826000@www.showmastersevents.com
SUMMARY:Bournemouth Brick Festival
DESCRIPTION:WELCOME TO THE BOURNEMOUTH BRICK FESTIVAL \nA LEGO fan event dedicated to all things brick! \nThis will be a great day for families\, collectors\, adult builders and every other kind of LEGO fan. With lots to see and do including speed building competitions\, large scale displays\, activities\, traders selling loose bricks\, new LEGO sets\, retired LEGO sets\, minifigures & accessories plus a dedicated building area. \nEstablished in 2018\, this celebration of all things LEGO is open to fans of all ages. Booking tickets to secure your place is strongly advised as we regularly sell out. Early Bird tickets are also available giving you an hour of extra fun and a FREE LEGO gift on entry too! \nThe Bournemouth Brick Festival will take place on Sunday 19th February 2023 at BH Live Active\, Littledown. \n 
URL:https://www.showmastersevents.com/event/bournemouth-brick-festival/
LOCATION:The Littledown Centre\, Chaseside\, Bournemouth\, BH7 7DX
CATEGORIES:Brick Festival
ATTACH;FMTTYPE=image/jpeg:https://www.showmastersevents.com/wp-content/uploads/2022/10/Bour.jpeg
GEO:50.7441654;-1.8247573
X-APPLE-STRUCTURED-LOCATION;VALUE=URI;X-ADDRESS=The Littledown Centre Chaseside Bournemouth BH7 7DX;X-APPLE-RADIUS=500;X-TITLE=Chaseside:geo:-1.8247573,50.7441654
END:VEVENT
END:VCALENDAR