BEGIN:VCALENDAR
VERSION:2.0
PRODID:-//Showmasters - ECPv6.15.16//NONSGML v1.0//EN
CALSCALE:GREGORIAN
METHOD:PUBLISH
X-ORIGINAL-URL:https://www.showmastersevents.com
X-WR-CALDESC:Events for Showmasters
REFRESH-INTERVAL;VALUE=DURATION:PT1H
X-Robots-Tag:noindex
X-PUBLISHED-TTL:PT1H
BEGIN:VTIMEZONE
TZID:Europe/London
BEGIN:DAYLIGHT
TZOFFSETFROM:+0000
TZOFFSETTO:+0100
TZNAME:BST
DTSTART:20250330T010000
END:DAYLIGHT
BEGIN:STANDARD
TZOFFSETFROM:+0100
TZOFFSETTO:+0000
TZNAME:GMT
DTSTART:20251026T010000
END:STANDARD
BEGIN:DAYLIGHT
TZOFFSETFROM:+0000
TZOFFSETTO:+0100
TZNAME:BST
DTSTART:20260329T010000
END:DAYLIGHT
BEGIN:STANDARD
TZOFFSETFROM:+0100
TZOFFSETTO:+0000
TZNAME:GMT
DTSTART:20261025T010000
END:STANDARD
BEGIN:DAYLIGHT
TZOFFSETFROM:+0000
TZOFFSETTO:+0100
TZNAME:BST
DTSTART:20270328T010000
END:DAYLIGHT
BEGIN:STANDARD
TZOFFSETFROM:+0100
TZOFFSETTO:+0000
TZNAME:GMT
DTSTART:20271031T010000
END:STANDARD
END:VTIMEZONE
BEGIN:VEVENT
DTSTART;TZID=Europe/London:20260821T140000
DTEND;TZID=Europe/London:20260823T180000
DTSTAMP:20260422T061654
CREATED:20251021T133513Z
LAST-MODIFIED:20251021T133513Z
UID:10000269-1787320800-1787508000@www.showmastersevents.com
SUMMARY:Destination
DESCRIPTION:[vc_row][vc_column][vc_column_text css=””]Destination\, an unofficial Star Trek™ fan convention\, is returning to Blackpool in 2026.  It’s mission is to give fans a chance to continue the ongoing mission of discovery. \nJoin us at The Norbreck Castle Hotel in August 2026 to explore strange new worlds\, to seek out new life and new civilizations\, to boldly go where no convention has gone before! \nDestination UK is taking place from the 21st to 23rd August 2026. The unofficial event will offer fans the opportunity to meet the cast and crew\, meet fellow fans\, party and celebrate the greatest TV universe of all time![/vc_column_text]Visit the Destination websiteVisit the Destination website[/vc_column][/vc_row]
URL:https://www.showmastersevents.com/event/destination-3/
LOCATION:Norbreck Castle Hotel\, Queens Promenade\, Blackpool\, FY2 9AA\, United Kingdom
CATEGORIES:Comic Con,Destination
ATTACH;FMTTYPE=image/png:https://www.showmastersevents.com/wp-content/uploads/2024/11/DestinationWebButton.png
GEO:53.8587515;-3.0495691
X-APPLE-STRUCTURED-LOCATION;VALUE=URI;X-ADDRESS=Norbreck Castle Hotel Queens Promenade Blackpool FY2 9AA United Kingdom;X-APPLE-RADIUS=500;X-TITLE=Queens Promenade:geo:-3.0495691,53.8587515
END:VEVENT
END:VCALENDAR