BEGIN:VCALENDAR
VERSION:2.0
PRODID:-//Showmasters - ECPv6.15.16//NONSGML v1.0//EN
CALSCALE:GREGORIAN
METHOD:PUBLISH
X-WR-CALNAME:Showmasters
X-ORIGINAL-URL:https://www.showmastersevents.com
X-WR-CALDESC:Events for Showmasters
REFRESH-INTERVAL;VALUE=DURATION:PT1H
X-Robots-Tag:noindex
X-PUBLISHED-TTL:PT1H
BEGIN:VTIMEZONE
TZID:Europe/London
BEGIN:DAYLIGHT
TZOFFSETFROM:+0000
TZOFFSETTO:+0100
TZNAME:BST
DTSTART:20250330T010000
END:DAYLIGHT
BEGIN:STANDARD
TZOFFSETFROM:+0100
TZOFFSETTO:+0000
TZNAME:GMT
DTSTART:20251026T010000
END:STANDARD
BEGIN:DAYLIGHT
TZOFFSETFROM:+0000
TZOFFSETTO:+0100
TZNAME:BST
DTSTART:20260329T010000
END:DAYLIGHT
BEGIN:STANDARD
TZOFFSETFROM:+0100
TZOFFSETTO:+0000
TZNAME:GMT
DTSTART:20261025T010000
END:STANDARD
BEGIN:DAYLIGHT
TZOFFSETFROM:+0000
TZOFFSETTO:+0100
TZNAME:BST
DTSTART:20270328T010000
END:DAYLIGHT
BEGIN:STANDARD
TZOFFSETFROM:+0100
TZOFFSETTO:+0000
TZNAME:GMT
DTSTART:20271031T010000
END:STANDARD
END:VTIMEZONE
BEGIN:VEVENT
DTSTART;TZID=Europe/London:20260704T090000
DTEND;TZID=Europe/London:20260705T170000
DTSTAMP:20260422T061221
CREATED:20251218T153325Z
LAST-MODIFIED:20251218T153325Z
UID:10000272-1783155600-1783270800@www.showmastersevents.com
SUMMARY:Film & Comic Con Glasgow
DESCRIPTION:[vc_row][vc_column][vc_column_text css=””]Join us as Film & Comic Con Glasgow returns to the Braehead Arena in July 2026 for a fun weekend where you can browse the many trader stalls\, get those hard to find items\, geek out and enjoy the cosplay\, a must for all fans of pop culture[/vc_column_text]Visit the Film & Comic Con Glasgow websiteVisit the Film & Comic Con Glasgow website[/vc_column][/vc_row]
URL:https://www.showmastersevents.com/event/film-comic-con-glasgow-2/
LOCATION:Braehead Arena\, Braehead Shopping Centre\, King's Inch Rd\, Glasgow\, Glasgow\, G51 4BN\, United Kingdom
CATEGORIES:Comic Con
ATTACH;FMTTYPE=image/png:https://www.showmastersevents.com/wp-content/uploads/2024/11/Glasgow.png
GEO:55.8758902;-4.3650292
X-APPLE-STRUCTURED-LOCATION;VALUE=URI;X-ADDRESS=Braehead Arena Braehead Shopping Centre King's Inch Rd Glasgow Glasgow G51 4BN United Kingdom;X-APPLE-RADIUS=500;X-TITLE=Braehead Shopping Centre\, King's Inch Rd:geo:-4.3650292,55.8758902
END:VEVENT
END:VCALENDAR