BEGIN:VCALENDAR
VERSION:2.0
PRODID:-//Showmasters - ECPv6.15.16//NONSGML v1.0//EN
CALSCALE:GREGORIAN
METHOD:PUBLISH
X-ORIGINAL-URL:https://www.showmastersevents.com
X-WR-CALDESC:Events for Showmasters
REFRESH-INTERVAL;VALUE=DURATION:PT1H
X-Robots-Tag:noindex
X-PUBLISHED-TTL:PT1H
BEGIN:VTIMEZONE
TZID:Europe/London
BEGIN:DAYLIGHT
TZOFFSETFROM:+0000
TZOFFSETTO:+0100
TZNAME:BST
DTSTART:20250330T010000
END:DAYLIGHT
BEGIN:STANDARD
TZOFFSETFROM:+0100
TZOFFSETTO:+0000
TZNAME:GMT
DTSTART:20251026T010000
END:STANDARD
BEGIN:DAYLIGHT
TZOFFSETFROM:+0000
TZOFFSETTO:+0100
TZNAME:BST
DTSTART:20260329T010000
END:DAYLIGHT
BEGIN:STANDARD
TZOFFSETFROM:+0100
TZOFFSETTO:+0000
TZNAME:GMT
DTSTART:20261025T010000
END:STANDARD
BEGIN:DAYLIGHT
TZOFFSETFROM:+0000
TZOFFSETTO:+0100
TZNAME:BST
DTSTART:20270328T010000
END:DAYLIGHT
BEGIN:STANDARD
TZOFFSETFROM:+0100
TZOFFSETTO:+0000
TZNAME:GMT
DTSTART:20271031T010000
END:STANDARD
END:VTIMEZONE
BEGIN:VEVENT
DTSTART;TZID=Europe/London:20260613T090000
DTEND;TZID=Europe/London:20260614T180000
DTSTAMP:20260422T062842
CREATED:20251209T163045Z
LAST-MODIFIED:20251209T163045Z
UID:10000271-1781341200-1781460000@www.showmastersevents.com
SUMMARY:London Film & Comic Con
DESCRIPTION:[vc_row][vc_column][vc_column_text css=””]The biggest event of the convention year\, London Film & Comic Con\, returns to the iconic Olympia in 2026! \nTaking place on 13-14 June 2026\, London Film & Comic Con promises to bring you some of your favourite stars from TV\, Film and Comics as well as a whole host of fun activities including photo shoots\, panels\, autograph sessions and hundreds of stalls full of TV and Film memorabilia to browse.[/vc_column_text][/vc_column][/vc_row]
URL:https://www.showmastersevents.com/event/london-film-comic-con-4/
LOCATION:Olympia\, Hammersmith Road\, London\, London\, W14 8UX
CATEGORIES:Comic Con
ATTACH;FMTTYPE=image/png:https://www.showmastersevents.com/wp-content/uploads/2024/11/LFCC.png
GEO:51.4956789;-0.2100067
X-APPLE-STRUCTURED-LOCATION;VALUE=URI;X-ADDRESS=Olympia Hammersmith Road London London W14 8UX;X-APPLE-RADIUS=500;X-TITLE=Hammersmith Road:geo:-0.2100067,51.4956789
END:VEVENT
END:VCALENDAR