BEGIN:VCALENDAR
VERSION:2.0
PRODID:-//Showmasters - ECPv6.15.16//NONSGML v1.0//EN
CALSCALE:GREGORIAN
METHOD:PUBLISH
X-WR-CALNAME:Showmasters
X-ORIGINAL-URL:https://www.showmastersevents.com
X-WR-CALDESC:Events for Showmasters
REFRESH-INTERVAL;VALUE=DURATION:PT1H
X-Robots-Tag:noindex
X-PUBLISHED-TTL:PT1H
BEGIN:VTIMEZONE
TZID:Europe/London
BEGIN:DAYLIGHT
TZOFFSETFROM:+0000
TZOFFSETTO:+0100
TZNAME:BST
DTSTART:20220327T010000
END:DAYLIGHT
BEGIN:STANDARD
TZOFFSETFROM:+0100
TZOFFSETTO:+0000
TZNAME:GMT
DTSTART:20221030T010000
END:STANDARD
BEGIN:DAYLIGHT
TZOFFSETFROM:+0000
TZOFFSETTO:+0100
TZNAME:BST
DTSTART:20230326T010000
END:DAYLIGHT
BEGIN:STANDARD
TZOFFSETFROM:+0100
TZOFFSETTO:+0000
TZNAME:GMT
DTSTART:20231029T010000
END:STANDARD
BEGIN:DAYLIGHT
TZOFFSETFROM:+0000
TZOFFSETTO:+0100
TZNAME:BST
DTSTART:20240331T010000
END:DAYLIGHT
BEGIN:STANDARD
TZOFFSETFROM:+0100
TZOFFSETTO:+0000
TZNAME:GMT
DTSTART:20241027T010000
END:STANDARD
END:VTIMEZONE
BEGIN:VEVENT
DTSTART;TZID=Europe/London:20230909T090000
DTEND;TZID=Europe/London:20230910T170000
DTSTAMP:20260421T185116
CREATED:20230314T153335Z
LAST-MODIFIED:20230802T141903Z
UID:10000119-1694250000-1694365200@www.showmastersevents.com
SUMMARY:Film & Comic Con Bournemouth
DESCRIPTION:
URL:https://www.showmastersevents.com/event/film-comic-con-bournemouth/
LOCATION:Bournemouth International Centre\, Exeter Road\, Bournemouth\, BH2 5BH\, United Kingdom
CATEGORIES:Comic Con
ATTACH;FMTTYPE=image/png:https://www.showmastersevents.com/wp-content/uploads/2023/03/BournemouthWeb.png
GEO:50.7171306;-1.8781051
X-APPLE-STRUCTURED-LOCATION;VALUE=URI;X-ADDRESS=Bournemouth International Centre Exeter Road Bournemouth BH2 5BH United Kingdom;X-APPLE-RADIUS=500;X-TITLE=Exeter Road:geo:-1.8781051,50.7171306
END:VEVENT
END:VCALENDAR