BEGIN:VCALENDAR
VERSION:2.0
PRODID:-//Showmasters - ECPv6.15.16//NONSGML v1.0//EN
CALSCALE:GREGORIAN
METHOD:PUBLISH
X-ORIGINAL-URL:https://www.showmastersevents.com
X-WR-CALDESC:Events for Showmasters
REFRESH-INTERVAL;VALUE=DURATION:PT1H
X-Robots-Tag:noindex
X-PUBLISHED-TTL:PT1H
BEGIN:VTIMEZONE
TZID:Europe/London
BEGIN:DAYLIGHT
TZOFFSETFROM:+0000
TZOFFSETTO:+0100
TZNAME:BST
DTSTART:20220327T010000
END:DAYLIGHT
BEGIN:STANDARD
TZOFFSETFROM:+0100
TZOFFSETTO:+0000
TZNAME:GMT
DTSTART:20221030T010000
END:STANDARD
BEGIN:DAYLIGHT
TZOFFSETFROM:+0000
TZOFFSETTO:+0100
TZNAME:BST
DTSTART:20230326T010000
END:DAYLIGHT
BEGIN:STANDARD
TZOFFSETFROM:+0100
TZOFFSETTO:+0000
TZNAME:GMT
DTSTART:20231029T010000
END:STANDARD
BEGIN:DAYLIGHT
TZOFFSETFROM:+0000
TZOFFSETTO:+0100
TZNAME:BST
DTSTART:20240331T010000
END:DAYLIGHT
BEGIN:STANDARD
TZOFFSETFROM:+0100
TZOFFSETTO:+0000
TZNAME:GMT
DTSTART:20241027T010000
END:STANDARD
END:VTIMEZONE
BEGIN:VEVENT
DTSTART;TZID=Europe/London:20230707T100000
DTEND;TZID=Europe/London:20230709T180000
DTSTAMP:20260421T162448
CREATED:20220210T173338Z
LAST-MODIFIED:20221010T140853Z
UID:10000103-1688724000-1688925600@www.showmastersevents.com
SUMMARY:London Film & Comic Con
DESCRIPTION:[vc_row][vc_column]Visit London Film and Comic Con WebsiteVisit London Film and Comic Con Website[/vc_column][/vc_row][vc_row][vc_column][vc_column_text]WE ARE BACK in July 2023 with the return of Showmasters London Film & Comic Con at Olympia London! \nTaking place on Friday 7th\, Saturday 8th & Sunday the 9th of July 2023\, London Film & Comic Con promises to bring you some of your favourite stars from TV\, Film and Comics as well as a whole host of fun activities including photo shoots\, panels\, autograph sessions and hundreds of stalls full of TV and Film memorabilia to browse.[/vc_column_text][/vc_column][/vc_row]
URL:https://www.showmastersevents.com/event/london-film-comic-con/2023-07-07/
LOCATION:Olympia\, Hammersmith Road\, London\, London\, W14 8UX
CATEGORIES:Comic Con
ATTACH;FMTTYPE=image/jpeg:https://www.showmastersevents.com/wp-content/uploads/2022/02/LFCC-2022-16-9.jpg
GEO:51.4956789;-0.2100067
X-APPLE-STRUCTURED-LOCATION;VALUE=URI;X-ADDRESS=Olympia Hammersmith Road London London W14 8UX;X-APPLE-RADIUS=500;X-TITLE=Hammersmith Road:geo:-0.2100067,51.4956789
END:VEVENT
END:VCALENDAR